BEGIN:VCALENDAR
VERSION:2.0
PRODID:-//Fırat Teknokent - ECPv6.15.17.1//NONSGML v1.0//EN
CALSCALE:GREGORIAN
METHOD:PUBLISH
X-ORIGINAL-URL:https://firatteknokent.com.tr
X-WR-CALDESC:Fırat Teknokent için etkinlikler
REFRESH-INTERVAL;VALUE=DURATION:PT1H
X-Robots-Tag:noindex
X-PUBLISHED-TTL:PT1H
BEGIN:VTIMEZONE
TZID:Europe/Moscow
BEGIN:STANDARD
TZOFFSETFROM:+0300
TZOFFSETTO:+0300
TZNAME:MSK
DTSTART:20240101T000000
END:STANDARD
END:VTIMEZONE
BEGIN:VEVENT
DTSTART;TZID=Europe/Moscow:20250711T100000
DTEND;TZID=Europe/Moscow:20250711T110000
DTSTAMP:20260422T121446
CREATED:20250707T105826Z
LAST-MODIFIED:20250707T110020Z
UID:35484-1752228000-1752231600@firatteknokent.com.tr
SUMMARY:Patent Ticarileştirme ve Lisanslama Eğitimi
DESCRIPTION:Değerli Girişimcilerimiz\, \nMarmara Teknokent tarafından düzenlenen 2025 Patent Kulübü Eğitim Programı kapsamında\, “Patent Ticarileştirme ve Lisanslama” başlıklı çevrim içi bir eğitim programı gerçekleştirilecektir. \n📅 Tarih: 11 Temmuz 2025\, Cuma\n🕙 Saat: 10.00\n📍 Yer: Online (Zoom üzerinden)\n👨‍🏫 Eğitmenler:\n•⁠ ⁠Süleyman Eryılmaz – Patent Vekili\n•⁠ ⁠Av. Firdevs Atalı – Fikri Sınai Haklar Uzmanı \nEğitimde\, patentlerin ekonomik değere nasıl dönüştürülebileceği\, lisanslama süreçleri\, stratejik iş birlikleri ve hukuki altyapı konularında kapsamlı bilgiler sunulacaktır. \nFırat Teknokent olarak\, bünyemizdeki firmaların fikri mülkiyetlerini etkin şekilde yönetmeleri ve ticarileştirmeleri konusunda bu eğitimi önemli bir fırsat olarak görüyoruz. \n🎯 Katılım ücretsizdir.\n🔗 Kayıt için: https://us02web.zoom.us/meeting/register/-i2jwXZSREqawv4vw6HdYg#/registration \nBilgilerinize sunar\, katılımınızı bekleriz. \nSaygılarımızla\,\nFırat Teknokent Yönetimi
URL:https://firatteknokent.com.tr/etkinlik/patent-ticarilestirme-ve-lisanslama-egitimi/
LOCATION:Zoom
END:VEVENT
END:VCALENDAR